BEGIN:VCALENDAR
VERSION:2.0
PRODID:-//White Mountains Community College - ECPv6.15.17.1//NONSGML v1.0//EN
CALSCALE:GREGORIAN
METHOD:PUBLISH
X-ORIGINAL-URL:https://www.wmcc.edu
X-WR-CALDESC:Events for White Mountains Community College
REFRESH-INTERVAL;VALUE=DURATION:PT1H
X-Robots-Tag:noindex
X-PUBLISHED-TTL:PT1H
BEGIN:VTIMEZONE
TZID:America/New_York
BEGIN:DAYLIGHT
TZOFFSETFROM:-0500
TZOFFSETTO:-0400
TZNAME:EDT
DTSTART:20230312T070000
END:DAYLIGHT
BEGIN:STANDARD
TZOFFSETFROM:-0400
TZOFFSETTO:-0500
TZNAME:EST
DTSTART:20231105T060000
END:STANDARD
BEGIN:DAYLIGHT
TZOFFSETFROM:-0500
TZOFFSETTO:-0400
TZNAME:EDT
DTSTART:20240310T070000
END:DAYLIGHT
BEGIN:STANDARD
TZOFFSETFROM:-0400
TZOFFSETTO:-0500
TZNAME:EST
DTSTART:20241103T060000
END:STANDARD
BEGIN:DAYLIGHT
TZOFFSETFROM:-0500
TZOFFSETTO:-0400
TZNAME:EDT
DTSTART:20250309T070000
END:DAYLIGHT
BEGIN:STANDARD
TZOFFSETFROM:-0400
TZOFFSETTO:-0500
TZNAME:EST
DTSTART:20251102T060000
END:STANDARD
END:VTIMEZONE
BEGIN:VEVENT
DTSTART;VALUE=DATE:20240806
DTEND;VALUE=DATE:20240809
DTSTAMP:20260424T045524
CREATED:20240520T160021Z
LAST-MODIFIED:20240606T173752Z
UID:10000490-1722902400-1723161599@www.wmcc.edu
SUMMARY:Youth Soccer Camp
DESCRIPTION:Soccer camp for girls and boys entering grades 4-6 and grades 7-9\, presented by WMCC and Berlin Mountaineers (Berlin High School.)\nGrades 4-6: 9am -11am\nGrades 7-9: 1pm – 4pm \nCost includes 3-day camp\, ice cream\, and a t-shirt! \nMore information and registration: 603-342-3019 or rrichard@ccsnh.edu
URL:https://www.wmcc.edu/event/youth-soccer-camp/
LOCATION:WMCC Berlin Campus\, 2020 Riverside Drive\, Berlin\, NH\, 03570\, United States
CATEGORIES:Youth Summer Camp
ATTACH;FMTTYPE=image/jpeg:https://www.wmcc.edu/wp-content/uploads/2024/05/2024-Summer-Soccer-Camp.jpg
END:VEVENT
BEGIN:VEVENT
DTSTART;VALUE=DATE:20240722
DTEND;VALUE=DATE:20240726
DTSTAMP:20260424T045524
CREATED:20240520T170807Z
LAST-MODIFIED:20240520T170936Z
UID:10000491-1721606400-1721951999@www.wmcc.edu
SUMMARY:Junior Culinary Camp
DESCRIPTION:Hands-on food production course providing students in grades 8-11 the opportunity to expand on the culinary and baking principles used in the modern foodservice industry covering topics in: \n\nBasic kitchen skills\nStocks\, soups and sauces\nHot food techniques\nPotato and vegetable cookery\nBarbeque flavors\nPasta\, dumplings\, and other starches\nBasic baking skills\n\nThe completion of this course includes producing and serving a meal for sponsors or parents.\nJuly 22 – July 25\, 9am – 2pm \nFor more info and to register\, contact Ryan at 603-342-3019 or rrichard@ccsnh.edu
URL:https://www.wmcc.edu/event/junior-culinary-camp/
LOCATION:WMCC Berlin Campus\, 2020 Riverside Drive\, Berlin\, NH\, 03570\, United States
CATEGORIES:Youth Summer Camp
ATTACH;FMTTYPE=image/jpeg:https://www.wmcc.edu/wp-content/uploads/2024/05/2024-Jr-Culinary-Camp-flyer.jpg
END:VEVENT
BEGIN:VEVENT
DTSTART;TZID=America/New_York:20240711T083000
DTEND;TZID=America/New_York:20240711T150000
DTSTAMP:20260424T045524
CREATED:20240429T124334Z
LAST-MODIFIED:20240502T125910Z
UID:10000487-1720686600-1720710000@www.wmcc.edu
SUMMARY:Safe Sitter
DESCRIPTION:Safe Sitter® is designed to prepare students in grades 6-8 to be safe when they’re home alone\, watching younger siblings\, or babysitting. The instructor-led class is filled with fun games and role-playing exercises. \nStudents learn:\nSafety Skills: Students learn how to prevent unsafe situations and what to do when faced with dangers such as power failures or weather emergencies.\nChild Care Skills: Students learn tips to manage behavior that will help them stay in control of themselves and the children in their care. Students also learn the ages and stages of child development\, as well as practice diapering. \nFirst Aid & Rescue Skills: Learning skills such as choking rescue and CPR is often students’ favorite part of the class. Students also learn a system to help them assess and respond to injuries and ill-nesses. \nLife & Business Skills: The ability to screen jobs\, discuss fees\, and greet employers will set students up for success now and in the future. Students practice these skills through various role plays. It is easy and affordable to partner with Safe Sitter® to teach home alone safety skills as well as babysitting train-ing. \nPlease bring your lunch! Tuition $30\nStudents should register for one date only.\nTo register\, contact Ryan Richard at 603-342-3019 or\nEmail rrichard@ccsnh.edu
URL:https://www.wmcc.edu/event/safe-sitter-littleton-july11/
LOCATION:Littleton Academic Center\, 646 Union Street\, Littleton\, NH\, 03561\, United States
CATEGORIES:Youth Summer Camp
ATTACH;FMTTYPE=image/jpeg:https://www.wmcc.edu/wp-content/uploads/2024/04/2024-Safe-Sitter-flyer-1.jpg
END:VEVENT
BEGIN:VEVENT
DTSTART;TZID=America/New_York:20240710T083000
DTEND;TZID=America/New_York:20240710T150000
DTSTAMP:20260424T045524
CREATED:20240429T124749Z
LAST-MODIFIED:20240502T130003Z
UID:10000489-1720600200-1720623600@www.wmcc.edu
SUMMARY:Safe Sitter
DESCRIPTION:Safe Sitter® is designed to prepare students in grades 6-8 to be safe when they’re home alone\, watching younger siblings\, or babysitting. The instructor-led class is filled with fun games and role-playing exercises. \nStudents learn:\nSafety Skills: Students learn how to prevent unsafe situations and what to do when faced with dangers such as power failures or weather emergencies.\nChild Care Skills: Students learn tips to manage behavior that will help them stay in control of themselves and the children in their care. Students also learn the ages and stages of child development\, as well as practice diapering. \nFirst Aid & Rescue Skills: Learning skills such as choking rescue and CPR is often students’ favorite part of the class. Students also learn a system to help them assess and respond to injuries and ill-nesses. \nLife & Business Skills: The ability to screen jobs\, discuss fees\, and greet employers will set students up for success now and in the future. Students practice these skills through various role plays. It is easy and affordable to partner with Safe Sitter® to teach home alone safety skills as well as babysitting train-ing. \nPlease bring your lunch! Tuition $30\nStudents should register for one date only.\nTo register\, contact Ryan Richard at 603-342-3019 or\nEmail rrichard@ccsnh.edu
URL:https://www.wmcc.edu/event/safe-sitter-berlin-july10/
LOCATION:WMCC Berlin Campus\, 2020 Riverside Drive\, Berlin\, NH\, 03570\, United States
CATEGORIES:Youth Summer Camp
ATTACH;FMTTYPE=image/jpeg:https://www.wmcc.edu/wp-content/uploads/2024/04/2024-Safe-Sitter-flyer-1.jpg
END:VEVENT
BEGIN:VEVENT
DTSTART;TZID=America/New_York:20240709T083000
DTEND;TZID=America/New_York:20240709T150000
DTSTAMP:20260424T045524
CREATED:20240429T124645Z
LAST-MODIFIED:20240502T130024Z
UID:10000488-1720513800-1720537200@www.wmcc.edu
SUMMARY:Safe Sitter
DESCRIPTION:Safe Sitter® is designed to prepare students in grades 6-8 to be safe when they’re home alone\, watching younger siblings\, or babysitting. The instructor-led class is filled with fun games and role-playing exercises. \nStudents learn:\nSafety Skills: Students learn how to prevent unsafe situations and what to do when faced with dangers such as power failures or weather emergencies.\nChild Care Skills: Students learn tips to manage behavior that will help them stay in control of themselves and the children in their care. Students also learn the ages and stages of child development\, as well as practice diapering. \nFirst Aid & Rescue Skills: Learning skills such as choking rescue and CPR is often students’ favorite part of the class. Students also learn a system to help them assess and respond to injuries and ill-nesses. \nLife & Business Skills: The ability to screen jobs\, discuss fees\, and greet employers will set students up for success now and in the future. Students practice these skills through various role plays. It is easy and affordable to partner with Safe Sitter® to teach home alone safety skills as well as babysitting train-ing. \nPlease bring your lunch! Tuition $30\nStudents should register for one date only.\nTo register\, contact Ryan Richard at 603-342-3019 or\nEmail rrichard@ccsnh.edu
URL:https://www.wmcc.edu/event/safe-sitter-berlin-july9/
LOCATION:WMCC Berlin Campus\, 2020 Riverside Drive\, Berlin\, NH\, 03570\, United States
CATEGORIES:Youth Summer Camp
ATTACH;FMTTYPE=image/jpeg:https://www.wmcc.edu/wp-content/uploads/2024/04/2024-Safe-Sitter-flyer-1.jpg
END:VEVENT
BEGIN:VEVENT
DTSTART;TZID=America/New_York:20240708T080000
DTEND;TZID=America/New_York:20240709T120000
DTSTAMP:20260424T045524
CREATED:20240422T185147Z
LAST-MODIFIED:20240502T130222Z
UID:10000485-1720425600-1720526400@www.wmcc.edu
SUMMARY:Rocket Car Drag Racing
DESCRIPTION:Two day camp for 7th and 8th graders with a prize for the winning car! \nQuestions and registration:\nContact Ryan Richard at rrichard@ccsnh.edu or 603-342-3019
URL:https://www.wmcc.edu/event/rocket-car-drag-racing/
LOCATION:WMCC Berlin Campus\, 2020 Riverside Drive\, Berlin\, NH\, 03570\, United States
CATEGORIES:Youth Summer Camp
ATTACH;FMTTYPE=image/jpeg:https://www.wmcc.edu/wp-content/uploads/2024/04/Rocket-Car-Summer-Camp-2024-v2.jpg
END:VEVENT
END:VCALENDAR